BEGIN:VCALENDAR
VERSION:2.0
METHOD:PUBLISH
PRODID::-//Obvius//NONSGML ICal//DA
BEGIN:VEVENT
UID:4801835@anthropology.ku.dk
DESCRIPTION:EE Birthday Bash w/Hans Lucht\, Senior Researcher DIIS\, recit
 ation of poems from his collection 'Fieldwork'\, Book Potlatch w/ Anja Sim
 onsen\, and colorful punch.\n\nhttps://anthropology.ku.dk/dep/event/2024/e
 e-multimodal-seminar-series-ee-birthday-bash/
SUMMARY:EE Multimodal Seminar Series: EE Birthday Bash
CATEGORIES:Event
LOCATION:Øster Farimagsgade 5\, 1353 København\, CSS\, Ethnographic Expl
 oratorium\, 4.1.12
ORGANIZER: Ethnographic Exploratory
DTSTART:20241007T220000Z
DTSTAMP:20241007T220000Z
DTEND:20241007T220000Z
END:VEVENT
END:VCALENDAR
